BEGIN:VCALENDAR
VERSION:2.0
PRODID:-//eventon.com NONSGML v1.0//EN
CALSCALE:GREGORIAN
METHOD:PUBLISH
BEGIN:VEVENT
UID:69ec149036061
DTSTAMP:20260425T011040Z
DTSTART:20260416T180000Z
DTEND:20260416T030000Z
LOCATION:Expert Laser Center Str. Grigore Cobălcescu nr. 10\,  Sector 1
SUMMARY:Terapia cu laser în stomatologie - MASTERSHIP SERIA XIV
DESCRIPTION:Începe seria XIV a mastershipului în stomatologia laser! SFU 
 Viena (Austria) &#8211;  „Mastership Certificate” Peste 200 de medici 
 stomatologi din România au absolvit acest program de mastership! Pentru î
 nscrieri și info: 0722.307.286 | contact@arsmi.ro Curs European MASTERSHIP
  TERAPIA CU LASER Curs practic: TOATE LUNGIMILE DE UNDĂ SPECIFICE STOMATOL
 OGIEI (450nm\,  650nm\, [..]\nhttps://denta-deals.ro/events/terapia-cu-lase
 r-in-stomatologie-mastership-seria-xiv/
URL:https://denta-deals.ro/events/terapia-cu-laser-in-stomatologie-mastership-seria-xiv/
END:VEVENT
END:VCALENDAR